BEGIN:VCALENDAR
VERSION:2.0
PRODID:-//Sprudge Coffee - ECPv6.15.20//NONSGML v1.0//EN
CALSCALE:GREGORIAN
METHOD:PUBLISH
X-ORIGINAL-URL:https://sprudge.com
X-WR-CALDESC:Events for Sprudge Coffee
REFRESH-INTERVAL;VALUE=DURATION:PT1H
X-Robots-Tag:noindex
X-PUBLISHED-TTL:PT1H
BEGIN:VTIMEZONE
TZID:America/Chicago
BEGIN:DAYLIGHT
TZOFFSETFROM:-0600
TZOFFSETTO:-0500
TZNAME:CDT
DTSTART:20250309T080000
END:DAYLIGHT
BEGIN:STANDARD
TZOFFSETFROM:-0500
TZOFFSETTO:-0600
TZNAME:CST
DTSTART:20251102T070000
END:STANDARD
BEGIN:DAYLIGHT
TZOFFSETFROM:-0600
TZOFFSETTO:-0500
TZNAME:CDT
DTSTART:20260308T080000
END:DAYLIGHT
BEGIN:STANDARD
TZOFFSETFROM:-0500
TZOFFSETTO:-0600
TZNAME:CST
DTSTART:20261101T070000
END:STANDARD
BEGIN:DAYLIGHT
TZOFFSETFROM:-0600
TZOFFSETTO:-0500
TZNAME:CDT
DTSTART:20270314T080000
END:DAYLIGHT
BEGIN:STANDARD
TZOFFSETFROM:-0500
TZOFFSETTO:-0600
TZNAME:CST
DTSTART:20271107T070000
END:STANDARD
END:VTIMEZONE
BEGIN:VEVENT
DTSTART;TZID=America/Chicago:20260226T170000
DTEND;TZID=America/Chicago:20260226T220000
DTSTAMP:20260423T060059
CREATED:20251217T225646Z
LAST-MODIFIED:20251217T225651Z
UID:507444-1772125200-1772143200@sprudge.com
SUMMARY:Latte Art Throwdown
DESCRIPTION:Pic Coffee Roasters is hosting a Latte Art Throwdown for baristas in the DFW area to encourage community\, creativity\, and skill building within the coffee community. \nCompetitor fee of $10\, but free to spectate!
URL:https://sprudge.com/event/latte-art-throwdown
LOCATION:Pic Coffee Roasters\, 152 College Park Dr\, Weatherford\, TX\, 76086\, United States
ATTACH;FMTTYPE=image/jpeg:https://sprudge.com/wp-content/uploads/2025/12/pic-coffee-latte-art-event.jpg
END:VEVENT
END:VCALENDAR