BEGIN:VCALENDAR
VERSION:2.0
PRODID:-//Sprudge Coffee - ECPv6.15.18//NONSGML v1.0//EN
CALSCALE:GREGORIAN
METHOD:PUBLISH
X-WR-CALNAME:Sprudge Coffee
X-ORIGINAL-URL:https://sprudge.com
X-WR-CALDESC:Events for Sprudge Coffee
REFRESH-INTERVAL;VALUE=DURATION:PT1H
X-Robots-Tag:noindex
X-PUBLISHED-TTL:PT1H
BEGIN:VTIMEZONE
TZID:Asia/Shanghai
BEGIN:STANDARD
TZOFFSETFROM:+0800
TZOFFSETTO:+0800
TZNAME:CST
DTSTART:20250101T000000
END:STANDARD
END:VTIMEZONE
BEGIN:VEVENT
DTSTART;VALUE=DATE:20260512
DTEND;VALUE=DATE:20260515
DTSTAMP:20260420T044431
CREATED:20260112T195306Z
LAST-MODIFIED:20260112T195306Z
UID:607978-1778544000-1778803199@sprudge.com
SUMMARY:IWCA Global Convention
DESCRIPTION:When women thrive\, communities thrive. \nThe International Women’s Coffee Alliance builds equitable\, sustainable futures in coffee by connecting women throughout the value chain — from farmers to exporters\, roasters\, and industry leaders. \nThe IWCA 2026 Global Convention in Bali\, Indonesia will bring together this worldwide network for three days of learning\, collaboration\, and celebration. Together\, we’ll share knowledge\, strengthen partnerships\, and build the bridge to a more inclusive coffee future.
URL:https://sprudge.com/event/iwca-global-convention
LOCATION:Bali Beach Hotel\, Jl. Hang Tuah\, Sanur\, Bali\, 80227\, Indonesia
ATTACH;FMTTYPE=image/jpeg:https://sprudge.com/wp-content/uploads/2026/01/iwca-global-convention.jpg
ORGANIZER;CN="International Women's Coffee Alliance":MAILTO:convention@womenincoffee.org
END:VEVENT
END:VCALENDAR